BEGIN:VCALENDAR
VERSION:2.0
PRODID:-//Dean Lake - ECPv6.15.1.1//NONSGML v1.0//EN
CALSCALE:GREGORIAN
METHOD:PUBLISH
X-ORIGINAL-URL:https://www.deanlake.org
X-WR-CALDESC:Events for Dean Lake
REFRESH-INTERVAL;VALUE=DURATION:PT1H
X-Robots-Tag:noindex
X-PUBLISHED-TTL:PT1H
BEGIN:VTIMEZONE
TZID:UTC
BEGIN:STANDARD
TZOFFSETFROM:+0000
TZOFFSETTO:+0000
TZNAME:UTC
DTSTART:20240101T000000
END:STANDARD
END:VTIMEZONE
BEGIN:VEVENT
DTSTART;TZID=UTC:20240831T100000
DTEND;TZID=UTC:20240831T120000
DTSTAMP:20260423T232006
CREATED:20240619T125321Z
LAST-MODIFIED:20240619T125321Z
UID:1301-1725098400-1725105600@www.deanlake.org
SUMMARY:Labor Day Brunch
DESCRIPTION:Saturday\, August 31 at 10 AM \nHosts: \nMatt & Susan 2237 Shimperle \nMore details to come on this event.
URL:https://www.deanlake.org/event/labor-day-brunch/
CATEGORIES:Party
END:VEVENT
END:VCALENDAR