BEGIN:VCALENDAR
VERSION:2.0
PRODID:-//Dean Lake - ECPv6.15.1.1//NONSGML v1.0//EN
CALSCALE:GREGORIAN
METHOD:PUBLISH
X-ORIGINAL-URL:https://www.deanlake.org
X-WR-CALDESC:Events for Dean Lake
REFRESH-INTERVAL;VALUE=DURATION:PT1H
X-Robots-Tag:noindex
X-PUBLISHED-TTL:PT1H
BEGIN:VTIMEZONE
TZID:UTC
BEGIN:STANDARD
TZOFFSETFROM:+0000
TZOFFSETTO:+0000
TZNAME:UTC
DTSTART:20240101T000000
END:STANDARD
END:VTIMEZONE
BEGIN:VEVENT
DTSTART;TZID=UTC:20240728T140000
DTEND;TZID=UTC:20240728T150000
DTSTAMP:20260423T213015
CREATED:20240619T123606Z
LAST-MODIFIED:20240619T123606Z
UID:1288-1722175200-1722178800@www.deanlake.org
SUMMARY:Paddle Regatta
DESCRIPTION:The Annual Dean Lake Paddle Regatta is Sunday\, July 28 at 2:00 PM starting at the Island. \nThe event is free and open to kayaks\, canoes\, paddle boards\, paddle boats\, row boats…and all other non-motorized watercraft. The race course is relatively short – go as fast or slow as you want\, all competitive levels are encouraged to join in the fun. Please see (approximate) course map attached. \nAn awards ceremony will be held after the race with food and prizes\, so make sure to stick around after the race. BYOB. \nFor the safety of all participants\, we are asking that during the time of this event\, Sunday\, July 28 @ 2:00 PM\, Dean Lake to be a No Wake Zone! \nThank you for your consideration and hope to see you all there. \nEvent Map
URL:https://www.deanlake.org/event/paddle-regatta-2/
CATEGORIES:Paddle Regatta
END:VEVENT
END:VCALENDAR