BEGIN:VCALENDAR
VERSION:2.0
PRODID:-//Dean Lake - ECPv6.15.1.1//NONSGML v1.0//EN
CALSCALE:GREGORIAN
METHOD:PUBLISH
X-WR-CALNAME:Dean Lake
X-ORIGINAL-URL:https://www.deanlake.org
X-WR-CALDESC:Events for Dean Lake
REFRESH-INTERVAL;VALUE=DURATION:PT1H
X-Robots-Tag:noindex
X-PUBLISHED-TTL:PT1H
BEGIN:VTIMEZONE
TZID:UTC
BEGIN:STANDARD
TZOFFSETFROM:+0000
TZOFFSETTO:+0000
TZNAME:UTC
DTSTART:20190101T000000
END:STANDARD
END:VTIMEZONE
BEGIN:VEVENT
DTSTART;TZID=UTC:20240621T180000
DTEND;TZID=UTC:20240621T210000
DTSTAMP:20260423T212836
CREATED:20240619T121742Z
LAST-MODIFIED:20240619T121742Z
UID:1274-1718992800-1719003600@www.deanlake.org
SUMMARY:Retirement Party Happy Hour
DESCRIPTION:Mike Frank Retirement Party Invitation\n\nWe will be hosting a retirement/lake party June 21\, 2024 from 6-9pm. Mike is retiring after 25 years at Northview as the Performing Arts Center Director and want to celebrate his retirement. \n2248 Edgewater DR NE
URL:https://www.deanlake.org/event/retirement-party-happy-hour/
CATEGORIES:Happy Hour
END:VEVENT
BEGIN:VEVENT
DTSTART;TZID=UTC:20220923T183000
DTEND;TZID=UTC:20220923T210000
DTSTAMP:20260423T212836
CREATED:20220812T163030Z
LAST-MODIFIED:20220812T163030Z
UID:1206-1663957800-1663966800@www.deanlake.org
SUMMARY:Happy Hour at Joel & Dan's
DESCRIPTION:Friday\, September 23 – Happy Hour at Joel & Dan’s 2269 Breezy Point \nSnacks provided. BYOB
URL:https://www.deanlake.org/event/happy-hour-at-joel-dans/
LOCATION:Dan & Joel\, 2269 Breezy Point\, Grand Rapids\, MI\, 49525\, United States
CATEGORIES:Happy Hour
END:VEVENT
BEGIN:VEVENT
DTSTART;TZID=UTC:20220812T183000
DTEND;TZID=UTC:20220812T220000
DTSTAMP:20260423T212836
CREATED:20220812T160055Z
LAST-MODIFIED:20220812T160205Z
UID:1198-1660329000-1660341600@www.deanlake.org
SUMMARY:Dean Lake Happy Hour Progressive Dinner Aug 12 2022
DESCRIPTION:Come to our Dean Lake Progressive Dinner Party on Friday\, August 12! Come by land or by sea. \n\n\n1st stop: 6:30 PM begin at Mark Gephart’s home 2390 Holtman Dr NE\n2nd stop: 7:30 PM progress to Jim and Janet Wood’s home for dinner 2380 Holtman Dr NE\n3rd stop: 8:30 PM progress to Mark and Andi Davis’ home for dessert 2370 Holtman Dr NE\nPlease Note: BYOB\n\n \n 
URL:https://www.deanlake.org/event/dean-lake-happy-hour-progressive-dinner-aug-12/
LOCATION:Gephart\, Wood\, Davis\, 2390 Holtman Dr NE\, Grand Rapids\, MI\, 49525\, United States
CATEGORIES:Happy Hour
END:VEVENT
BEGIN:VEVENT
DTSTART;TZID=UTC:20210130T140000
DTEND;TZID=UTC:20210130T160000
DTSTAMP:20260423T212836
CREATED:20210130T175130Z
LAST-MODIFIED:20210130T180536Z
UID:983-1612015200-1612022400@www.deanlake.org
SUMMARY:Dean Lake Ice Party
DESCRIPTION:You’re invited to a Dean Lake Ice Party! \n\nSaturday\, January 30 @ 2:00 to 4:00 pm.\nOn the Ice at 2264 Breezy Point – SandBar cove.\nHosts Bertrand & Gaelle Thibault (Tee-Bo)\nBYOB & an Optional Dish to Pass.\nFire and Electricity provided.\nCome by Land or by Ice.\nPlenty of Plowed Parking on Breezy Point.\nKids welcome!\nOutdoor gathering but please practice social distancing.
URL:https://www.deanlake.org/event/dean-lake-ice-party/
LOCATION:2264 Breezy Point – SandBar cove.\, 2264 Breezy Point\, Grand Rapids\, MI\, 49525
CATEGORIES:Happy Hour
END:VEVENT
BEGIN:VEVENT
DTSTART;TZID=UTC:20200717T180000
DTEND;TZID=UTC:20200717T220000
DTSTAMP:20260423T212836
CREATED:20200717T155104Z
LAST-MODIFIED:20200717T160107Z
UID:974-1595008800-1595023200@www.deanlake.org
SUMMARY:Dean Lake Happy Hour July 17 featuring the band 6 PAK
DESCRIPTION:Host Denise Pietri\n3879 Keeweenaw Dr N.E.\n6 Pak band will be playing a Dress Rehearsal with 3 new members including the Host Denise Pietri on Bass\nStart time 6:00\, band starts at 7:00 till ?\nDue to Covid\,  no food or drinks will be provided.\nBYOB\nBYO Food\nBYO Chairs\nPlease limit to Dean Lake people only due to Covid restrictions of 100 people gatherings. 6 PAK is a popular band so we want to make sure there is enough social distancing space in the large yard.\nSpots still available! Please RSVP to Denise Pietri dlpietri@gmail.com  616-361-2114 (home)  616-516-7136 (cell)\nRides up the hill available from lake at Jonathan Arnold’s and Jayne Dykema’s docks
URL:https://www.deanlake.org/event/dean-lake-happy-hour-july-17-featuring-the-band-6-pak/
CATEGORIES:Happy Hour
END:VEVENT
BEGIN:VEVENT
DTSTART;TZID=UTC:20190830T180000
DTEND;TZID=UTC:20190830T220000
DTSTAMP:20260423T212836
CREATED:20190828T144011Z
LAST-MODIFIED:20190828T144011Z
UID:828-1567188000-1567202400@www.deanlake.org
SUMMARY:End of Summer Party
DESCRIPTION:End of Summer Party this Friday (Aug 30) \n\nHosts: Dan & Joel – 2269 Breezy Point\n6-10 PM\nLot’s of beach parking\nSnacks provided\, BYOB\nNo children please\n\nEnd of Summer Party 2019
URL:https://www.deanlake.org/event/end-of-summer-party/
LOCATION:Dan & Joel\, 2269 Breezy Point\, Grand Rapids\, MI\, 49525\, United States
CATEGORIES:Happy Hour
END:VEVENT
BEGIN:VEVENT
DTSTART;TZID=UTC:20190823T180000
DTEND;TZID=UTC:20190823T210000
DTSTAMP:20260423T212836
CREATED:20190524T160558Z
LAST-MODIFIED:20190524T160558Z
UID:759-1566583200-1566594000@www.deanlake.org
SUMMARY:Friday Happy Hour
DESCRIPTION:August 23 date is open\, please contact Joel 893-2378 if you would like to host
URL:https://www.deanlake.org/event/friday-happy-hour-7/
CATEGORIES:Happy Hour
END:VEVENT
BEGIN:VEVENT
DTSTART;TZID=UTC:20190816T180000
DTEND;TZID=UTC:20190816T210000
DTSTAMP:20260423T212836
CREATED:20190524T155719Z
LAST-MODIFIED:20190615T153005Z
UID:752-1565978400-1565989200@www.deanlake.org
SUMMARY:Friday Happy Hour
DESCRIPTION:Your hosts: Tim & Bev Kolkman 3555 Manderly \nBYOB – snacks provided.
URL:https://www.deanlake.org/event/friday-happy-hour-5/
CATEGORIES:Happy Hour
END:VEVENT
BEGIN:VEVENT
DTSTART;TZID=UTC:20190809T180000
DTEND;TZID=UTC:20190809T210000
DTSTAMP:20260423T212836
CREATED:20190524T160040Z
LAST-MODIFIED:20190524T160040Z
UID:754-1565373600-1565384400@www.deanlake.org
SUMMARY:Friday Happy Hour
DESCRIPTION:Your hosts: John & Marcia Kantorowski 2670 Holtman Drive\, Scott & Susan Travis 2682 Holtman Drive \nWill feature a live band! \nBYOB – snacks provided.
URL:https://www.deanlake.org/event/friday-happy-hour-6/
CATEGORIES:Happy Hour
END:VEVENT
BEGIN:VEVENT
DTSTART;TZID=UTC:20190802T180000
DTEND;TZID=UTC:20190802T210000
DTSTAMP:20260423T212836
CREATED:20190615T154204Z
LAST-MODIFIED:20190615T154324Z
UID:778-1564768800-1564779600@www.deanlake.org
SUMMARY:Friday Happy Hour
DESCRIPTION:Holtman Cove Progressive Mexican dinner. \nYour hosts: Wood/Davis/Hibma – 2380/2370/2360 Holtman DR NE. \nBYOB
URL:https://www.deanlake.org/event/friday-happy-hour-9/
CATEGORIES:Happy Hour
END:VEVENT
BEGIN:VEVENT
DTSTART;TZID=UTC:20190726T180000
DTEND;TZID=UTC:20190726T210000
DTSTAMP:20260423T212836
CREATED:20190524T155216Z
LAST-MODIFIED:20190524T155216Z
UID:747-1564164000-1564174800@www.deanlake.org
SUMMARY:Friday Happy Hour
DESCRIPTION:July 26 date is open\, please contact Joel 893-2378 if you would like to host
URL:https://www.deanlake.org/event/friday-happy-hour-4/
CATEGORIES:Happy Hour
END:VEVENT
BEGIN:VEVENT
DTSTART;TZID=UTC:20190719T180000
DTEND;TZID=UTC:20190719T210000
DTSTAMP:20260423T212836
CREATED:20190524T154017Z
LAST-MODIFIED:20190719T142145Z
UID:739-1563559200-1563570000@www.deanlake.org
SUMMARY:Friday Happy Hour Party
DESCRIPTION:July 19 date is open\, please contact Joel 893-2378 if you would like to host \nBYOB – snacks provided.
URL:https://www.deanlake.org/event/friday-happy-hour-party-2/
CATEGORIES:Happy Hour
END:VEVENT
BEGIN:VEVENT
DTSTART;TZID=UTC:20190712T180000
DTEND;TZID=UTC:20190712T210000
DTSTAMP:20260423T212836
CREATED:20190524T155056Z
LAST-MODIFIED:20190605T184420Z
UID:745-1562954400-1562965200@www.deanlake.org
SUMMARY:Friday Happy Hour
DESCRIPTION:Your host: Vicki Loren 2246 Edgewater DR NE
URL:https://www.deanlake.org/event/friday-happy-hour-3/
CATEGORIES:Happy Hour
END:VEVENT
BEGIN:VEVENT
DTSTART;TZID=UTC:20190628T180000
DTEND;TZID=UTC:20190628T210000
DTSTAMP:20260423T212836
CREATED:20190524T154840Z
LAST-MODIFIED:20190524T154840Z
UID:743-1561744800-1561755600@www.deanlake.org
SUMMARY:Friday Happy Hour
DESCRIPTION:June 28 date is open\, please contact Joel 893-2378 if you would like to host
URL:https://www.deanlake.org/event/friday-happy-hour-2/
CATEGORIES:Happy Hour
END:VEVENT
BEGIN:VEVENT
DTSTART;TZID=UTC:20190621T180000
DTEND;TZID=UTC:20190621T210000
DTSTAMP:20260423T212836
CREATED:20190524T154653Z
LAST-MODIFIED:20190524T154653Z
UID:741-1561140000-1561150800@www.deanlake.org
SUMMARY:Friday Happy Hour
DESCRIPTION:June 21 date is open\, please contact Joel 893-2378 if you would like to host
URL:https://www.deanlake.org/event/friday-happy-hour/
CATEGORIES:Happy Hour
END:VEVENT
BEGIN:VEVENT
DTSTART;TZID=UTC:20190614T180000
DTEND;TZID=UTC:20190614T210000
DTSTAMP:20260423T212836
CREATED:20190524T153747Z
LAST-MODIFIED:20190524T160424Z
UID:737-1560535200-1560546000@www.deanlake.org
SUMMARY:Friday Happy Hour Party
DESCRIPTION:Your hosts: Susan Kazma-Rockwood & Matt Rockwood 2237 Shimperle \nBYOB – snacks provided.
URL:https://www.deanlake.org/event/friday-happy-hour-party/
CATEGORIES:Happy Hour
END:VEVENT
END:VCALENDAR