BEGIN:VCALENDAR
VERSION:2.0
PRODID:-//Dean Lake - ECPv6.15.1.1//NONSGML v1.0//EN
CALSCALE:GREGORIAN
METHOD:PUBLISH
X-ORIGINAL-URL:https://www.deanlake.org
X-WR-CALDESC:Events for Dean Lake
REFRESH-INTERVAL;VALUE=DURATION:PT1H
X-Robots-Tag:noindex
X-PUBLISHED-TTL:PT1H
BEGIN:VTIMEZONE
TZID:UTC
BEGIN:STANDARD
TZOFFSETFROM:+0000
TZOFFSETTO:+0000
TZNAME:UTC
DTSTART:20220101T000000
END:STANDARD
END:VTIMEZONE
BEGIN:VEVENT
DTSTART;TZID=UTC:20250506T183000
DTEND;TZID=UTC:20250506T210000
DTSTAMP:20260423T194610
CREATED:20250502T121739Z
LAST-MODIFIED:20250502T121739Z
UID:1324-1746556200-1746565200@www.deanlake.org
SUMMARY:Annual Dean Lake Association Meeting 2025
DESCRIPTION:Dean Lake Association – Notice of Annual Meeting\nTuesday\, May 6\, 2025 @ 7:00pm (meet and greet @ 6:30pm)\nNew Community Church\, 2340 Dean Lake Road NE \n  \nCover letter for annual meeting-2
URL:https://www.deanlake.org/event/annual-dean-lake-association-meeting-2025/
LOCATION:New Community Church\, 2340 Dean Lake Ave. NE\, Grand Rapids\, MI\, 49505\, United States
CATEGORIES:Association
END:VEVENT
BEGIN:VEVENT
DTSTART;TZID=UTC:20230509T183000
DTEND;TZID=UTC:20230509T203000
DTSTAMP:20260423T194610
CREATED:20230509T131220Z
LAST-MODIFIED:20230509T131220Z
UID:1234-1683657000-1683664200@www.deanlake.org
SUMMARY:Annual Association Meeting 2023
DESCRIPTION:Annual Association Meeting\n\n\nMay 9\, 2023\n6:30 PM Networking\n\n7-9 PM Meeting\nLocation: New Community Church\, 2340 Dean Lake Ave.
URL:https://www.deanlake.org/event/annual-association-meeting-2023/
LOCATION:New Community Church\, 2340 Dean Lake Ave. NE\, Grand Rapids\, MI\, 49505\, United States
CATEGORIES:Association
END:VEVENT
BEGIN:VEVENT
DTSTART;TZID=UTC:20220503T183000
DTEND;TZID=UTC:20220503T210000
DTSTAMP:20260423T194610
CREATED:20220502T133341Z
LAST-MODIFIED:20220502T133341Z
UID:1158-1651602600-1651611600@www.deanlake.org
SUMMARY:Annual Association Meeting
DESCRIPTION:Annual Association Meeting\n\n\nMay 3\, 2022\n6:30 PM Networking\n\n7-9 PM Meeting\nLocation: New Community Church\, 2340 Dean Lake Ave.
URL:https://www.deanlake.org/event/annual-association-meeting-2/
LOCATION:New Community Church\, 2340 Dean Lake Ave. NE\, Grand Rapids\, MI\, 49505\, United States
CATEGORIES:Association
END:VEVENT
END:VCALENDAR